BEGIN:VCALENDAR
VERSION:2.0
PRODID:-//Sportivi Ghiaccio Trento - ECPv6.15.20//NONSGML v1.0//EN
CALSCALE:GREGORIAN
METHOD:PUBLISH
X-ORIGINAL-URL:https://www.sportivighiaccio.trento.it
X-WR-CALDESC:Eventi per Sportivi Ghiaccio Trento
REFRESH-INTERVAL;VALUE=DURATION:PT1H
X-Robots-Tag:noindex
X-PUBLISHED-TTL:PT1H
BEGIN:VTIMEZONE
TZID:UTC
BEGIN:STANDARD
TZOFFSETFROM:+0000
TZOFFSETTO:+0000
TZNAME:UTC
DTSTART:20240101T000000
END:STANDARD
END:VTIMEZONE
BEGIN:VEVENT
DTSTART;VALUE=DATE:20251213
DTEND;VALUE=DATE:20251215
DTSTAMP:20260423T091616
CREATED:20251004T211748Z
LAST-MODIFIED:20251101T102337Z
UID:3956-1765584000-1765756799@www.sportivighiaccio.trento.it
SUMMARY:2° Primi Sprint 2025/2026
DESCRIPTION:Categorie: \n\nJunior D\,\nJunior E\,\nJunior F\,\nPiccole Schegge\n\n\n– Password App Sportity: ss2primisprint2526
URL:https://www.sportivighiaccio.trento.it/event/2-primi-sprint-2025-2026/
LOCATION:Arena Ritten\, Zaberbach\, 15\, Collalbo\, 39054\, Italia
CATEGORIES:Pista Lunga
ATTACH;FMTTYPE=image/jpeg:https://www.sportivighiaccio.trento.it/wp-content/uploads/2024/08/Ritten-Arena-1.jpg
END:VEVENT
BEGIN:VEVENT
DTSTART;TZID=UTC:20251218T080000
DTEND;TZID=UTC:20251221T170000
DTSTAMP:20260423T091616
CREATED:20251101T104205Z
LAST-MODIFIED:20260214T090322Z
UID:4078-1766044800-1766336400@www.sportivighiaccio.trento.it
SUMMARY:Trofeo CONI Winter 2025
DESCRIPTION:Su convocazione \nCategorie: \n\nJunior D\,\nJunior E (con 10 anni compiuti)
URL:https://www.sportivighiaccio.trento.it/event/trofeo-coni-winter-2025/
LOCATION:Palaghiaccio di Courmayeur\, Via dello Stadio\, 2\, 11013 Courmayeur AO
CATEGORIES:Pista Corta
ATTACH;FMTTYPE=image/jpeg:https://www.sportivighiaccio.trento.it/wp-content/uploads/2025/11/courmayeur.jpg
END:VEVENT
BEGIN:VEVENT
DTSTART;VALUE=DATE:20251220
DTEND;VALUE=DATE:20251222
DTSTAMP:20260423T091616
CREATED:20251004T212135Z
LAST-MODIFIED:20251101T102439Z
UID:3958-1766188800-1766361599@www.sportivighiaccio.trento.it
SUMMARY:2° Grand Prix 2025/2026
DESCRIPTION:Categorie: \n\nJunior C\,\nJunior D\n\n\n– Password App Sportity: ss2grandprix2526
URL:https://www.sportivighiaccio.trento.it/event/2-grand-prix-2025-2026/
LOCATION:Arena Ritten\, Zaberbach\, 15\, Collalbo\, 39054\, Italia
CATEGORIES:Pista Lunga
ATTACH;FMTTYPE=image/jpeg:https://www.sportivighiaccio.trento.it/wp-content/uploads/2024/08/Ritten-Arena-1.jpg
END:VEVENT
BEGIN:VEVENT
DTSTART;TZID=UTC:20251227T130000
DTEND;TZID=UTC:20251227T200000
DTSTAMP:20260423T091616
CREATED:20251004T212217Z
LAST-MODIFIED:20251224T125109Z
UID:3960-1766840400-1766865600@www.sportivighiaccio.trento.it
SUMMARY:3° Primi Sprint 2025/2026
DESCRIPTION:Categorie: \n\nJunior D\,\nJunior E\,\nJunior F\,\nPiccole Schegge\n\n\n– Password App Sportity: ss3primisprint2526
URL:https://www.sportivighiaccio.trento.it/event/3-primi-sprint-2025-2026/
LOCATION:Arena Ritten\, Zaberbach\, 15\, Collalbo\, 39054\, Italia
CATEGORIES:Pista Lunga
ATTACH;FMTTYPE=image/jpeg:https://www.sportivighiaccio.trento.it/wp-content/uploads/2024/08/Ritten-Arena-1.jpg
END:VEVENT
BEGIN:VEVENT
DTSTART;VALUE=DATE:20260103
DTEND;VALUE=DATE:20260105
DTSTAMP:20260423T091616
CREATED:20251004T212310Z
LAST-MODIFIED:20251224T113209Z
UID:3962-1767398400-1767571199@www.sportivighiaccio.trento.it
SUMMARY:3° Grand Prix 2025/2026
DESCRIPTION:Categorie: \n\nJunior C\,\nJunior D\n\n\n– Password App Sportity: ss3grandprix2526
URL:https://www.sportivighiaccio.trento.it/event/3-grand-prix-2025-2026/
LOCATION:Arena Ritten\, Zaberbach\, 15\, Collalbo\, 39054\, Italia
CATEGORIES:Pista Lunga
ATTACH;FMTTYPE=image/jpeg:https://www.sportivighiaccio.trento.it/wp-content/uploads/2024/08/Ritten-Arena-1.jpg
END:VEVENT
BEGIN:VEVENT
DTSTART;VALUE=DATE:20260110
DTEND;VALUE=DATE:20260112
DTSTAMP:20260423T091616
CREATED:20251004T212518Z
LAST-MODIFIED:20251101T102617Z
UID:3965-1768003200-1768175999@www.sportivighiaccio.trento.it
SUMMARY:Campionati Italiani Junior Sprint 2025/2026
DESCRIPTION:Categorie: \n\nJunior C\,\nJunior D\n\n\n– Password App Sportity: sscampitajunsprintms2526
URL:https://www.sportivighiaccio.trento.it/event/campionati-italiani-junior-sprint-2025-2026/
LOCATION:Arena Ritten\, Zaberbach\, 15\, Collalbo\, 39054\, Italia
CATEGORIES:Pista Lunga
ATTACH;FMTTYPE=image/jpeg:https://www.sportivighiaccio.trento.it/wp-content/uploads/2024/08/Ritten-Arena-1.jpg
END:VEVENT
BEGIN:VEVENT
DTSTART;TZID=UTC:20260111T080000
DTEND;TZID=UTC:20260111T170000
DTSTAMP:20260423T091616
CREATED:20251224T124330Z
LAST-MODIFIED:20251224T124958Z
UID:4143-1768118400-1768150800@www.sportivighiaccio.trento.it
SUMMARY:Coppa Italia Giovanissimi 2025
DESCRIPTION:Categorie: \n\nJunior E\,\nJunior F\,\nPiccole Schegge\n\n\n– Password App Sportity: stcoppaotaliagiovanissimi2526 (hanno scritto con questo errore)
URL:https://www.sportivighiaccio.trento.it/event/coppa-italia-giovanissimi-2025/
LOCATION:Palasmeraldo\, Via Lago Smeraldo\, Fondo\, 38013
ATTACH;FMTTYPE=image/jpeg:https://www.sportivighiaccio.trento.it/wp-content/uploads/2024/08/Palasmeraldo.jpg
END:VEVENT
BEGIN:VEVENT
DTSTART;VALUE=DATE:20260117
DTEND;VALUE=DATE:20260119
DTSTAMP:20260423T091616
CREATED:20251004T212631Z
LAST-MODIFIED:20251224T114743Z
UID:3967-1768608000-1768780799@www.sportivighiaccio.trento.it
SUMMARY:Meeting Juniores 2025/2026
DESCRIPTION:Categorie: \n\nJunior C\,\nJunior D\,\nJunior E\n\n\n– Password App Sportity: ssmeetingjuniores2526
URL:https://www.sportivighiaccio.trento.it/event/meeting-juniores-2025-2026/
LOCATION:Arena Ritten\, Zaberbach\, 15\, Collalbo\, 39054\, Italia
CATEGORIES:Pista Lunga
ATTACH;FMTTYPE=image/jpeg:https://www.sportivighiaccio.trento.it/wp-content/uploads/2024/08/Ritten-Arena-1.jpg
END:VEVENT
BEGIN:VEVENT
DTSTART;VALUE=DATE:20260124
DTEND;VALUE=DATE:20260126
DTSTAMP:20260423T091616
CREATED:20251004T212755Z
LAST-MODIFIED:20251101T102740Z
UID:3969-1769212800-1769385599@www.sportivighiaccio.trento.it
SUMMARY:2° Trofeo delle Regioni 2025/2026
DESCRIPTION:Categorie: \n\nJunior E\,\nJunior F\,\nPiccole Schegge\n\n\n– Password App Sportity: sstrofeodelleregioni22526 \n(la 1° prova del Trofeo delle Regioni è stata annullata)
URL:https://www.sportivighiaccio.trento.it/event/2-trofeo-delle-regioni-2025-2026/
LOCATION:Arena Ritten\, Zaberbach\, 15\, Collalbo\, 39054\, Italia
CATEGORIES:Pista Corta
ATTACH;FMTTYPE=image/jpeg:https://www.sportivighiaccio.trento.it/wp-content/uploads/2024/08/Ritten-Arena-1.jpg
END:VEVENT
BEGIN:VEVENT
DTSTART;VALUE=DATE:20260131
DTEND;VALUE=DATE:20260202
DTSTAMP:20260423T091616
CREATED:20251004T212856Z
LAST-MODIFIED:20251101T102815Z
UID:3972-1769817600-1769990399@www.sportivighiaccio.trento.it
SUMMARY:Campionati Italiani Junior All-Round 2025/2026
DESCRIPTION:Categorie: \n\nJunior C\,\nJunior D\n\n\n– Password App Sportity: sscampitajunallround2526
URL:https://www.sportivighiaccio.trento.it/event/campionati-italiani-junior-all-round2025-2026/
LOCATION:Arena Ritten\, Zaberbach\, 15\, Collalbo\, 39054\, Italia
CATEGORIES:Pista Lunga
ATTACH;FMTTYPE=image/jpeg:https://www.sportivighiaccio.trento.it/wp-content/uploads/2024/08/Ritten-Arena-1.jpg
END:VEVENT
BEGIN:VEVENT
DTSTART;TZID=UTC:20260314T080000
DTEND;TZID=UTC:20260315T170000
DTSTAMP:20260423T091616
CREATED:20260214T090824Z
LAST-MODIFIED:20260214T090824Z
UID:4202-1773475200-1773594000@www.sportivighiaccio.trento.it
SUMMARY:Finale Giovanissimi 2026
DESCRIPTION:Su convocazione \nCategorie: \n\nJunior E\,\nJunior F\n\n\n– Password App Sportity: ?
URL:https://www.sportivighiaccio.trento.it/event/finale-giovanissimi-2026/
LOCATION:Bormio\, Via Alessandro Manzoni\, Bormio\, 23032\, Italy
CATEGORIES:Pista Corta
ATTACH;FMTTYPE=image/jpeg:https://www.sportivighiaccio.trento.it/wp-content/uploads/2024/08/Palasmeraldo.jpg
END:VEVENT
END:VCALENDAR