BEGIN:VCALENDAR
VERSION:2.0
PRODID:-//Sportivi Ghiaccio Trento - ECPv6.15.20//NONSGML v1.0//EN
CALSCALE:GREGORIAN
METHOD:PUBLISH
X-WR-CALNAME:Sportivi Ghiaccio Trento
X-ORIGINAL-URL:https://www.sportivighiaccio.trento.it
X-WR-CALDESC:Eventi per Sportivi Ghiaccio Trento
REFRESH-INTERVAL;VALUE=DURATION:PT1H
X-Robots-Tag:noindex
X-PUBLISHED-TTL:PT1H
BEGIN:VTIMEZONE
TZID:UTC
BEGIN:STANDARD
TZOFFSETFROM:+0000
TZOFFSETTO:+0000
TZNAME:UTC
DTSTART:20230101T000000
END:STANDARD
END:VTIMEZONE
BEGIN:VEVENT
DTSTART;VALUE=DATE:20251123
DTEND;VALUE=DATE:20251124
DTSTAMP:20260423T105459
CREATED:20251101T103206Z
LAST-MODIFIED:20251101T104618Z
UID:4072-1763856000-1763942399@www.sportivighiaccio.trento.it
SUMMARY:2° Triveneto Cup 2025/2026
DESCRIPTION:Categorie: \n\nJunior E\,\nJunior F\,\nPiccole Schegge\n\n\n– Password App Sportity: st2526trivenetocup2
URL:https://www.sportivighiaccio.trento.it/event/2-triveneto-cup-202526/
LOCATION:Galvalux Arena – Stadio del Ghiaccio\, Località\, Via Manzago\, Tai\, Pieve di Cadore\, 32044\, Italia
CATEGORIES:Pista Corta
ATTACH;FMTTYPE=image/jpeg:https://www.sportivighiaccio.trento.it/wp-content/uploads/2024/08/GalvaluxArena.jpg
END:VEVENT
BEGIN:VEVENT
DTSTART;VALUE=DATE:20251122
DTEND;VALUE=DATE:20251124
DTSTAMP:20260423T105459
CREATED:20251004T211146Z
LAST-MODIFIED:20251101T102213Z
UID:3949-1763769600-1763942399@www.sportivighiaccio.trento.it
SUMMARY:1° Grand Prix 2025/2026
DESCRIPTION:Categorie: \n\nJunior C\,\nJunior D\n\n\n– Password App Sportity: ss1grandprix2526
URL:https://www.sportivighiaccio.trento.it/event/1-grand-prix-2025-2026/
LOCATION:Arena Ritten\, Zaberbach\, 15\, Collalbo\, 39054\, Italia
CATEGORIES:Pista Lunga
ATTACH;FMTTYPE=image/jpeg:https://www.sportivighiaccio.trento.it/wp-content/uploads/2024/08/Ritten-Arena-1.jpg
END:VEVENT
BEGIN:VEVENT
DTSTART;VALUE=DATE:20251115
DTEND;VALUE=DATE:20251117
DTSTAMP:20260423T105459
CREATED:20251004T211553Z
LAST-MODIFIED:20251101T102018Z
UID:3952-1763164800-1763337599@www.sportivighiaccio.trento.it
SUMMARY:1° Primi Sprint 2025/2026
DESCRIPTION:Categorie: \n\nJunior D\,\nJunior E\,\nJunior F\,\nPiccole Schegge\n\n\n– Password App Sportity: ss1primisprint2526
URL:https://www.sportivighiaccio.trento.it/event/1-primi-sprint-2025-2026/
LOCATION:Arena Ritten\, Zaberbach\, 15\, Collalbo\, 39054\, Italia
CATEGORIES:Pista Lunga
ATTACH;FMTTYPE=image/jpeg:https://www.sportivighiaccio.trento.it/wp-content/uploads/2024/08/Ritten-Arena-1.jpg
END:VEVENT
BEGIN:VEVENT
DTSTART;TZID=UTC:20251108T140000
DTEND;TZID=UTC:20251108T180000
DTSTAMP:20260423T105459
CREATED:20251101T103026Z
LAST-MODIFIED:20251101T103026Z
UID:4070-1762610400-1762624800@www.sportivighiaccio.trento.it
SUMMARY:1° Trofeo Interregionale Lombardia - Piemonte
DESCRIPTION:Categorie: \n\nJunior E\,\nJunior F\,\nPiccole Schegge\n\n\n– Password App Sportity: st2526trofeointerregionale1
URL:https://www.sportivighiaccio.trento.it/event/1-trofeo-interregionale-lombardia-piemonte2526/
LOCATION:Bormio\, Via Alessandro Manzoni\, Bormio\, 23032\, Italy
CATEGORIES:Pista Corta
ATTACH;FMTTYPE=image/jpeg:https://www.sportivighiaccio.trento.it/wp-content/uploads/2024/10/Bormio.jpg
END:VEVENT
BEGIN:VEVENT
DTSTART;VALUE=DATE:20251019
DTEND;VALUE=DATE:20251020
DTSTAMP:20260423T105459
CREATED:20251004T210505Z
LAST-MODIFIED:20251101T103359Z
UID:3946-1760832000-1760918399@www.sportivighiaccio.trento.it
SUMMARY:1° Triveneto Cup 2025/2026
DESCRIPTION:Categorie: \n\nJunior E\,\nJunior F\,\nPiccole Schegge\n\n\n– Password App Sportity: st2526trivenetocup1
URL:https://www.sportivighiaccio.trento.it/event/1-triveneto-cup-2025-2026/
LOCATION:Arena Ritten\, Zaberbach\, 15\, Collalbo\, 39054\, Italia
CATEGORIES:Pista Corta
ATTACH;FMTTYPE=image/jpeg:https://www.sportivighiaccio.trento.it/wp-content/uploads/2024/08/Ritten-Arena-1.jpg
END:VEVENT
BEGIN:VEVENT
DTSTART;TZID=UTC:20250315T080000
DTEND;TZID=UTC:20250316T170000
DTSTAMP:20260423T105459
CREATED:20240830T132409Z
LAST-MODIFIED:20240927T125425Z
UID:2744-1742025600-1742144400@www.sportivighiaccio.trento.it
SUMMARY:Finale Giovanissimi 2025
DESCRIPTION:Su convocazione \nCategorie: \n\nJunior E\,\nJunior F\n\n\n– Password App Sportity: stfingio2425
URL:https://www.sportivighiaccio.trento.it/event/finale-giovanissimi-2025/
LOCATION:Palasmeraldo\, Via Lago Smeraldo\, Fondo\, 38013
CATEGORIES:Pista Corta
ATTACH;FMTTYPE=image/jpeg:https://www.sportivighiaccio.trento.it/wp-content/uploads/2024/08/Palasmeraldo.jpg
END:VEVENT
BEGIN:VEVENT
DTSTART;VALUE=DATE:20250302
DTEND;VALUE=DATE:20250303
DTSTAMP:20260423T105459
CREATED:20240830T131129Z
LAST-MODIFIED:20240927T125403Z
UID:2735-1740873600-1740959999@www.sportivighiaccio.trento.it
SUMMARY:4° Triveneto Cup 2024/2025
DESCRIPTION:Categorie: \n\nJunior E\,\nJunior F\,\nPiccole Schegge\n\n\n– Password App Sportity: 2425trivenetocup4
URL:https://www.sportivighiaccio.trento.it/event/4-triveneto-cup-2024-2025/
LOCATION:Maccani Ice Arena\, Via Fersina\, 15\, Trento\, 38123\, Italia
CATEGORIES:Pista Corta
ATTACH;FMTTYPE=image/jpeg:https://www.sportivighiaccio.trento.it/wp-content/uploads/2024/08/MaccaniIceArena.jpg
END:VEVENT
BEGIN:VEVENT
DTSTART;TZID=UTC:20250222T130000
DTEND;TZID=UTC:20250223T130000
DTSTAMP:20260423T105459
CREATED:20240830T133828Z
LAST-MODIFIED:20240927T125142Z
UID:2754-1740229200-1740315600@www.sportivighiaccio.trento.it
SUMMARY:3° Primi Sprint 2024/2025
DESCRIPTION:Categorie: \n\nJunior D\,\nJunior E\,\nJunior F\,\nPiccole Schegge\n\n\n– Password App Sportity: ss2425primisprint3
URL:https://www.sportivighiaccio.trento.it/event/3-primi-sprint-2024-2025/
LOCATION:Arena Ritten\, Zaberbach\, 15\, Collalbo\, 39054\, Italia
CATEGORIES:Pista Lunga
ATTACH;FMTTYPE=image/jpeg:https://www.sportivighiaccio.trento.it/wp-content/uploads/2024/08/Ritten-Arena-1.jpg
END:VEVENT
BEGIN:VEVENT
DTSTART;TZID=UTC:20250215T130000
DTEND;TZID=UTC:20250216T130000
DTSTAMP:20260423T105459
CREATED:20240830T140710Z
LAST-MODIFIED:20240927T125043Z
UID:2778-1739624400-1739710800@www.sportivighiaccio.trento.it
SUMMARY:Campionati Italiani Junior Allround 2024/2025
DESCRIPTION:Categorie: \n\nJunior C\,\nJunior D\n\n\n– Password App Sportity: ssitajunallround2425
URL:https://www.sportivighiaccio.trento.it/event/campionati-italiani-junior-allround-2024-2025/
LOCATION:Arena Ritten\, Zaberbach\, 15\, Collalbo\, 39054\, Italia
CATEGORIES:Pista Lunga
ATTACH;FMTTYPE=image/jpeg:https://www.sportivighiaccio.trento.it/wp-content/uploads/2024/08/Ritten-Arena-1.jpg
END:VEVENT
BEGIN:VEVENT
DTSTART;VALUE=DATE:20250202
DTEND;VALUE=DATE:20250203
DTSTAMP:20260423T105459
CREATED:20250102T135501Z
LAST-MODIFIED:20250102T135501Z
UID:3640-1738454400-1738540799@www.sportivighiaccio.trento.it
SUMMARY:3° Triveneto Cup 2024/2025
DESCRIPTION:Categorie: \n\nJunior E\,\nJunior F\,\nPiccole Schegge\n\n\n– Password App Sportity: 2425trivenetocup3
URL:https://www.sportivighiaccio.trento.it/event/3-triveneto-cup-2024-2025/
LOCATION:Palaghiaccio Pergine\, Via al Ponte\, 1/A\, Pergine Valsugana\, Italy
CATEGORIES:Pista Corta
ATTACH;FMTTYPE=image/jpeg:https://www.sportivighiaccio.trento.it/wp-content/uploads/2025/01/pergine.jpg
END:VEVENT
BEGIN:VEVENT
DTSTART;TZID=UTC:20250125T130000
DTEND;TZID=UTC:20250126T130000
DTSTAMP:20260423T105459
CREATED:20240830T135416Z
LAST-MODIFIED:20240927T125002Z
UID:2769-1737810000-1737896400@www.sportivighiaccio.trento.it
SUMMARY:3° Grand Prix 2024/2025
DESCRIPTION:Categorie: \n\nJunior C\,\nJunior D\n\n\n– Password App Sportity: ss2425grandprix3
URL:https://www.sportivighiaccio.trento.it/event/3-grand-prix-2024-2025/
LOCATION:Arena Ritten\, Zaberbach\, 15\, Collalbo\, 39054\, Italia
CATEGORIES:Pista Lunga
ATTACH;FMTTYPE=image/jpeg:https://www.sportivighiaccio.trento.it/wp-content/uploads/2024/08/Ritten-Arena-1.jpg
END:VEVENT
BEGIN:VEVENT
DTSTART;TZID=UTC:20250118T130000
DTEND;TZID=UTC:20250119T130000
DTSTAMP:20260423T105459
CREATED:20240927T130928Z
LAST-MODIFIED:20241227T100219Z
UID:3308-1737205200-1737291600@www.sportivighiaccio.trento.it
SUMMARY:43° Meeting Juniores
DESCRIPTION:Categorie: \n\nJunior C\nJunior D\nJunior E\n\n\nPassword App Sportity: ssmeetingjuniores25
URL:https://www.sportivighiaccio.trento.it/event/43-meeting-juniores/
LOCATION:Arena Ritten\, Zaberbach\, 15\, Collalbo\, 39054\, Italia
CATEGORIES:Pista Lunga
ATTACH;FMTTYPE=image/jpeg:https://www.sportivighiaccio.trento.it/wp-content/uploads/2024/08/Ritten-Arena-1.jpg
END:VEVENT
BEGIN:VEVENT
DTSTART;TZID=UTC:20250116T080000
DTEND;TZID=UTC:20250119T170000
DTSTAMP:20260423T105459
CREATED:20240830T124905Z
LAST-MODIFIED:20250102T153629Z
UID:2728-1737014400-1737306000@www.sportivighiaccio.trento.it
SUMMARY:Trofeo CONI Winter 2024
DESCRIPTION:Su convocazione \nCategorie: \n\nJunior D\,\nJunior E (con 10 anni compiuti)\n\nConvocati dal Comitato Trentino FISG: \n\nAlex\nAnna A.\nCaterina\nDamiano\nGiulia\nPietro
URL:https://www.sportivighiaccio.trento.it/event/trofeo-coni-winter-2024/
LOCATION:Palaghiaccio Bolino\, Viale dello Sport\, 14\, Roccaraso\, 67037\, Italia
CATEGORIES:Pista Corta
ATTACH;FMTTYPE=image/jpeg:https://www.sportivighiaccio.trento.it/wp-content/uploads/2024/08/PalaghiaccioRoccaraso.jpg
END:VEVENT
BEGIN:VEVENT
DTSTART;TZID=UTC:20250111T130000
DTEND;TZID=UTC:20250112T130000
DTSTAMP:20260423T105459
CREATED:20240830T140448Z
LAST-MODIFIED:20240927T125544Z
UID:2775-1736600400-1736686800@www.sportivighiaccio.trento.it
SUMMARY:Campionati Italiani Junior Sprint 2024/2025
DESCRIPTION:Categorie: \n\nJunior C\,\nJunior D\n\n\n– Password App Sportity: ssitajunspirntmassstart2425 (pagina creata con “sprint” scritto sbagliato)
URL:https://www.sportivighiaccio.trento.it/event/campionati-italiani-junior-sprint/
LOCATION:Arena Ritten\, Zaberbach\, 15\, Collalbo\, 39054\, Italia
CATEGORIES:Pista Lunga
ATTACH;FMTTYPE=image/jpeg:https://www.sportivighiaccio.trento.it/wp-content/uploads/2024/08/Ritten-Arena-1.jpg
END:VEVENT
BEGIN:VEVENT
DTSTART;TZID=UTC:20250104T130000
DTEND;TZID=UTC:20250105T130000
DTSTAMP:20260423T105459
CREATED:20240830T135913Z
LAST-MODIFIED:20240927T125521Z
UID:2773-1735995600-1736082000@www.sportivighiaccio.trento.it
SUMMARY:2° Trofeo delle Regioni 2024/2025
DESCRIPTION:Categorie: \n\nJunior E\,\nJunior F\,\nPiccole Schegge\n\n\n– Password App Sportity: st-ss2425trofeoregioni2
URL:https://www.sportivighiaccio.trento.it/event/2-trofeo-delle-regioni-2024-2025/
LOCATION:Arena Ritten\, Zaberbach\, 15\, Collalbo\, 39054\, Italia
CATEGORIES:Pista Corta,Pista Lunga
ATTACH;FMTTYPE=image/jpeg:https://www.sportivighiaccio.trento.it/wp-content/uploads/2024/08/Ritten-Arena-1.jpg
END:VEVENT
BEGIN:VEVENT
DTSTART;TZID=UTC:20250102T170000
DTEND;TZID=UTC:20250102T190000
DTSTAMP:20260423T105459
CREATED:20241206T204434Z
LAST-MODIFIED:20250102T152506Z
UID:3629-1735837200-1735844400@www.sportivighiaccio.trento.it
SUMMARY:Allenamento Speciale di Natale
DESCRIPTION:Categorie: \n\nJunior C\,\nJunior D\,\nJunior E\,\nJunior F\,\nPreagonisti
URL:https://www.sportivighiaccio.trento.it/event/allenamento-speciale-di-natale-2/
LOCATION:Maccani Ice Arena\, Via Fersina\, 15\, Trento\, 38123\, Italia
CATEGORIES:Pista Corta
ATTACH;FMTTYPE=image/jpeg:https://www.sportivighiaccio.trento.it/wp-content/uploads/2024/08/MaccaniIceArena.jpg
END:VEVENT
BEGIN:VEVENT
DTSTART;TZID=UTC:20241223T100000
DTEND;TZID=UTC:20241223T120000
DTSTAMP:20260423T105459
CREATED:20241206T204350Z
LAST-MODIFIED:20241206T204350Z
UID:3628-1734948000-1734955200@www.sportivighiaccio.trento.it
SUMMARY:Allenamento Speciale di Natale
DESCRIPTION:Categorie: \n\nJunior C\,\nJunior D\,\nJunior E\,\nJunior F\,\nPreagonisti
URL:https://www.sportivighiaccio.trento.it/event/allenamento-speciale-di-natale/
LOCATION:Maccani Ice Arena\, Via Fersina\, 15\, Trento\, 38123\, Italia
CATEGORIES:Pista Corta
ATTACH;FMTTYPE=image/jpeg:https://www.sportivighiaccio.trento.it/wp-content/uploads/2024/08/MaccaniIceArena.jpg
END:VEVENT
BEGIN:VEVENT
DTSTART;TZID=UTC:20241219T163000
DTEND;TZID=UTC:20241219T180000
DTSTAMP:20260423T105459
CREATED:20241206T203944Z
LAST-MODIFIED:20241206T203944Z
UID:3626-1734625800-1734631200@www.sportivighiaccio.trento.it
SUMMARY:Festa SGT di Natale
DESCRIPTION:Categorie: \n\nJunior C\,\nJunior D\,\nJunior E\,\nJunior F\,\nPreagonisti\,\nPiccole Schegge
URL:https://www.sportivighiaccio.trento.it/event/festa-sgt-di-natale/
LOCATION:Maccani Ice Arena\, Via Fersina\, 15\, Trento\, 38123\, Italia
CATEGORIES:Pista Corta
ATTACH;FMTTYPE=image/jpeg:https://www.sportivighiaccio.trento.it/wp-content/uploads/2024/08/MaccaniIceArena.jpg
END:VEVENT
BEGIN:VEVENT
DTSTART;TZID=UTC:20241217T173000
DTEND;TZID=UTC:20241217T200000
DTSTAMP:20260423T105459
CREATED:20241206T203247Z
LAST-MODIFIED:20241206T204201Z
UID:3621-1734456600-1734465600@www.sportivighiaccio.trento.it
SUMMARY:Gara Sociale SGT di Natale
DESCRIPTION:Categorie: \n\nJunior C\,\nJunior D\,\nJunior E\,\nJunior F\,\nPreagonisti\,\nPiccole Schegge
URL:https://www.sportivighiaccio.trento.it/event/gara-sociale-di-natale/
LOCATION:Maccani Ice Arena\, Via Fersina\, 15\, Trento\, 38123\, Italia
CATEGORIES:Pista Corta
ATTACH;FMTTYPE=image/jpeg:https://www.sportivighiaccio.trento.it/wp-content/uploads/2024/08/MaccaniIceArena.jpg
END:VEVENT
BEGIN:VEVENT
DTSTART;TZID=UTC:20241214T130000
DTEND;TZID=UTC:20241215T130000
DTSTAMP:20260423T105459
CREATED:20240830T133753Z
LAST-MODIFIED:20240927T125509Z
UID:2752-1734181200-1734267600@www.sportivighiaccio.trento.it
SUMMARY:2° Primi Sprint 2024/2025
DESCRIPTION:Categorie: \n\nJunior D\,\nJunior E\,\nJunior F\,\nPiccole Schegge\n\n\n– Password App Sportity: ss2425primisprint2
URL:https://www.sportivighiaccio.trento.it/event/2-primi-sprint-2024-2025/
LOCATION:Arena Ritten\, Zaberbach\, 15\, Collalbo\, 39054\, Italia
CATEGORIES:Pista Lunga
ATTACH;FMTTYPE=image/jpeg:https://www.sportivighiaccio.trento.it/wp-content/uploads/2024/08/Ritten-Arena-1.jpg
END:VEVENT
BEGIN:VEVENT
DTSTART;TZID=UTC:20241207T130000
DTEND;TZID=UTC:20241208T130000
DTSTAMP:20260423T105459
CREATED:20240830T135143Z
LAST-MODIFIED:20241030T163320Z
UID:2767-1733576400-1733662800@www.sportivighiaccio.trento.it
SUMMARY:2° Grand Prix 2024/2025 - ! ANNULLATA !
DESCRIPTION:Categorie: \n\nJunior C\,\nJunior D\n\n\n– Password App Sportity: ss2425grandprix2
URL:https://www.sportivighiaccio.trento.it/event/2-grand-prix-2024-2025/
LOCATION:Arena Ritten\, Zaberbach\, 15\, Collalbo\, 39054\, Italia
CATEGORIES:Pista Lunga
ATTACH;FMTTYPE=image/jpeg:https://www.sportivighiaccio.trento.it/wp-content/uploads/2024/08/Ritten-Arena-1.jpg
END:VEVENT
BEGIN:VEVENT
DTSTART;TZID=UTC:20241130T130000
DTEND;TZID=UTC:20241201T130000
DTSTAMP:20260423T105459
CREATED:20240830T135824Z
LAST-MODIFIED:20240927T123905Z
UID:2771-1732971600-1733058000@www.sportivighiaccio.trento.it
SUMMARY:1° Trofeo delle Regioni 2024/2025
DESCRIPTION:Categorie: \n\nJunior E\,\nJunior F\,\nPiccole Schegge\n\n\n– Password App Sportity: st-ss2425trofeoregioni1
URL:https://www.sportivighiaccio.trento.it/event/1-trofeo-delle-regioni-2024-2025/
LOCATION:Arena Ritten\, Zaberbach\, 15\, Collalbo\, 39054\, Italia
CATEGORIES:Pista Corta,Pista Lunga
ATTACH;FMTTYPE=image/jpeg:https://www.sportivighiaccio.trento.it/wp-content/uploads/2024/08/Ritten-Arena-1.jpg
END:VEVENT
BEGIN:VEVENT
DTSTART;TZID=UTC:20241123T130000
DTEND;TZID=UTC:20241124T130000
DTSTAMP:20260423T105459
CREATED:20240830T133606Z
LAST-MODIFIED:20240927T123644Z
UID:2750-1732366800-1732453200@www.sportivighiaccio.trento.it
SUMMARY:1° Primi Sprint 2024/2025
DESCRIPTION:Categorie: \n\nJunior D\,\nJunior E\,\nJunior F\,\nPiccole Schegge\n\n\n– Password App Sportity: ss2425primisprint1
URL:https://www.sportivighiaccio.trento.it/event/1-primi-sprint-2024-2025/
LOCATION:Arena Ritten\, Zaberbach\, 15\, Collalbo\, 39054\, Italia
CATEGORIES:Pista Lunga
ATTACH;FMTTYPE=image/jpeg:https://www.sportivighiaccio.trento.it/wp-content/uploads/2024/08/Ritten-Arena-1.jpg
END:VEVENT
BEGIN:VEVENT
DTSTART;TZID=UTC:20241116T130000
DTEND;TZID=UTC:20241117T130000
DTSTAMP:20260423T105459
CREATED:20240830T135040Z
LAST-MODIFIED:20240927T123500Z
UID:2765-1731762000-1731848400@www.sportivighiaccio.trento.it
SUMMARY:1° Grand Prix 2024/2025
DESCRIPTION:Categorie: \n\nJunior C\,\nJunior D\n\n\n– Password App Sportity: ss2425grandprix1
URL:https://www.sportivighiaccio.trento.it/event/1-grand-prix-2024-2025/
LOCATION:Arena Ritten\, Zaberbach\, 15\, Collalbo\, 39054\, Italia
CATEGORIES:Pista Lunga
ATTACH;FMTTYPE=image/jpeg:https://www.sportivighiaccio.trento.it/wp-content/uploads/2024/08/Ritten-Arena-1.jpg
END:VEVENT
BEGIN:VEVENT
DTSTART;TZID=UTC:20241110T080000
DTEND;TZID=UTC:20241110T170000
DTSTAMP:20260423T105459
CREATED:20240829T110633Z
LAST-MODIFIED:20240927T123325Z
UID:2719-1731225600-1731258000@www.sportivighiaccio.trento.it
SUMMARY:2° Triveneto Cup 2024/2025
DESCRIPTION:Categorie: \n\nJunior E\,\nJunior F\,\nPiccole Schegge\n\n\n– Password App Sportity: 2425trivenetocup2
URL:https://www.sportivighiaccio.trento.it/event/2-triveneto-cup-2024-2025/
LOCATION:Galvalux Arena – Stadio del Ghiaccio\, Località\, Via Manzago\, Tai\, Pieve di Cadore\, 32044\, Italia
CATEGORIES:Pista Corta
ATTACH;FMTTYPE=image/jpeg:https://www.sportivighiaccio.trento.it/wp-content/uploads/2024/08/GalvaluxArena.jpg
END:VEVENT
BEGIN:VEVENT
DTSTART;TZID=UTC:20241019T140000
DTEND;TZID=UTC:20241019T180000
DTSTAMP:20260423T105459
CREATED:20241004T214042Z
LAST-MODIFIED:20241004T214149Z
UID:3369-1729346400-1729360800@www.sportivighiaccio.trento.it
SUMMARY:1° Trofeo Interregionale Lombardia - Piemonte
DESCRIPTION:Categorie: \n\nJunior E\,\nJunior F\,\nPiccole Schegge\n\n\n– Password App Sportity: st2425trofeointerregionale1
URL:https://www.sportivighiaccio.trento.it/event/3369/
LOCATION:Bormio\, Via Alessandro Manzoni\, Bormio\, 23032\, Italy
CATEGORIES:Pista Corta
ATTACH;FMTTYPE=image/jpeg:https://www.sportivighiaccio.trento.it/wp-content/uploads/2024/10/Bormio.jpg
END:VEVENT
BEGIN:VEVENT
DTSTART;TZID=UTC:20241013T080000
DTEND;TZID=UTC:20241013T170000
DTSTAMP:20260423T105459
CREATED:20240829T104331Z
LAST-MODIFIED:20240927T123238Z
UID:2707-1728806400-1728838800@www.sportivighiaccio.trento.it
SUMMARY:1° Triveneto Cup 2024/2025
DESCRIPTION:Categorie: \n\nJunior E\,\nJunior F\,\nPiccole Schegge\n\n\n– Password App Sportity: 2425trivenetocup1
URL:https://www.sportivighiaccio.trento.it/event/1-triveneto-cup/
LOCATION:Arena Ritten\, Zaberbach\, 15\, Collalbo\, 39054\, Italia
CATEGORIES:Pista Corta
ATTACH;FMTTYPE=image/jpeg:https://www.sportivighiaccio.trento.it/wp-content/uploads/2024/08/Ritten-Arena-1.jpg
END:VEVENT
END:VCALENDAR